{
 "currentVersion": 10.61,
 "serviceDescription": "",
 "mapName": "Statewide Road Cache",
 "description": "",
 "copyrightText": "",
 "supportsDynamicLayers": true,
 "layers": [
  {
   "id": 0,
   "name": "County Boundaries",
   "parentLayerId": -1,
   "defaultVisibility": false,
   "subLayerIds": null,
   "minScale": 0,
   "maxScale": 50000
  },
  {
   "id": 1,
   "name": "Parcels",
   "parentLayerId": -1,
   "defaultVisibility": true,
   "subLayerIds": null,
   "minScale": 48000,
   "maxScale": 0
  },
  {
   "id": 2,
   "name": "Mask",
   "parentLayerId": -1,
   "defaultVisibility": true,
   "subLayerIds": null,
   "minScale": 0,
   "maxScale": 0
  },
  {
   "id": 3,
   "name": "Accomack Roads",
   "parentLayerId": -1,
   "defaultVisibility": true,
   "subLayerIds": [
    4,
    5,
    6,
    7,
    8,
    9,
    10,
    11,
    12,
    13
   ],
   "minScale": 0,
   "maxScale": 0
  },
  {
   "id": 4,
   "name": "Accomack Roads (12,000)",
   "parentLayerId": 3,
   "defaultVisibility": true,
   "subLayerIds": null,
   "minScale": 12000,
   "maxScale": 0
  },
  {
   "id": 5,
   "name": "Accomack Roads - Back (12,000)",
   "parentLayerId": 3,
   "defaultVisibility": true,
   "subLayerIds": null,
   "minScale": 12000,
   "maxScale": 0
  },
  {
   "id": 6,
   "name": "Accomack Roads (100,000)",
   "parentLayerId": 3,
   "defaultVisibility": true,
   "subLayerIds": null,
   "minScale": 100001,
   "maxScale": 12001
  },
  {
   "id": 7,
   "name": "Accomack Roads - Back (100,000)",
   "parentLayerId": 3,
   "defaultVisibility": true,
   "subLayerIds": null,
   "minScale": 100001,
   "maxScale": 12001
  },
  {
   "id": 8,
   "name": "Accomack Roads (200,000)",
   "parentLayerId": 3,
   "defaultVisibility": true,
   "subLayerIds": null,
   "minScale": 200000,
   "maxScale": 100001
  },
  {
   "id": 9,
   "name": "Accomack Roads - Back (200,000)",
   "parentLayerId": 3,
   "defaultVisibility": true,
   "subLayerIds": null,
   "minScale": 200000,
   "maxScale": 100001
  },
  {
   "id": 10,
   "name": "Accomack Roads (400,000)",
   "parentLayerId": 3,
   "defaultVisibility": true,
   "subLayerIds": null,
   "minScale": 400000,
   "maxScale": 200001
  },
  {
   "id": 11,
   "name": "Accomack Roads - Back (400,000)",
   "parentLayerId": 3,
   "defaultVisibility": true,
   "subLayerIds": null,
   "minScale": 400000,
   "maxScale": 200001
  },
  {
   "id": 12,
   "name": "Accomack Roads (800,000)",
   "parentLayerId": 3,
   "defaultVisibility": true,
   "subLayerIds": null,
   "minScale": 800000,
   "maxScale": 400001
  },
  {
   "id": 13,
   "name": "Accomack Roads - Back (800,000)",
   "parentLayerId": 3,
   "defaultVisibility": true,
   "subLayerIds": null,
   "minScale": 800000,
   "maxScale": 400001
  },
  {
   "id": 14,
   "name": "State Roads (RNS)",
   "parentLayerId": -1,
   "defaultVisibility": true,
   "subLayerIds": [
    15
   ],
   "minScale": 0,
   "maxScale": 0
  },
  {
   "id": 15,
   "name": "VDOT Roads",
   "parentLayerId": 14,
   "defaultVisibility": true,
   "subLayerIds": [
    16,
    17,
    18,
    19,
    20,
    21,
    22
   ],
   "minScale": 0,
   "maxScale": 0
  },
  {
   "id": 16,
   "name": "Roads (4,000,000)",
   "parentLayerId": 15,
   "defaultVisibility": true,
   "subLayerIds": null,
   "minScale": 0,
   "maxScale": 800001
  },
  {
   "id": 17,
   "name": "Roads (800,000)",
   "parentLayerId": 15,
   "defaultVisibility": true,
   "subLayerIds": null,
   "minScale": 800000,
   "maxScale": 400001
  },
  {
   "id": 18,
   "name": "Roads (400,000)",
   "parentLayerId": 15,
   "defaultVisibility": true,
   "subLayerIds": null,
   "minScale": 400000,
   "maxScale": 200001
  },
  {
   "id": 19,
   "name": "Roads (200,000)",
   "parentLayerId": 15,
   "defaultVisibility": true,
   "subLayerIds": null,
   "minScale": 200000,
   "maxScale": 100001
  },
  {
   "id": 20,
   "name": "Roads (100,000)",
   "parentLayerId": 15,
   "defaultVisibility": true,
   "subLayerIds": null,
   "minScale": 100000,
   "maxScale": 12001
  },
  {
   "id": 21,
   "name": "Roads (12,000)",
   "parentLayerId": 15,
   "defaultVisibility": true,
   "subLayerIds": null,
   "minScale": 12000,
   "maxScale": 0
  },
  {
   "id": 22,
   "name": "VDOT Road Backs",
   "parentLayerId": 15,
   "defaultVisibility": true,
   "subLayerIds": [
    23,
    24,
    25,
    26,
    27,
    28
   ],
   "minScale": 0,
   "maxScale": 0
  },
  {
   "id": 23,
   "name": "Roads (4,000,000)",
   "parentLayerId": 22,
   "defaultVisibility": true,
   "subLayerIds": null,
   "minScale": 0,
   "maxScale": 800001
  },
  {
   "id": 24,
   "name": "Roads (800,000)",
   "parentLayerId": 22,
   "defaultVisibility": true,
   "subLayerIds": null,
   "minScale": 800000,
   "maxScale": 400001
  },
  {
   "id": 25,
   "name": "Roads (400,000)",
   "parentLayerId": 22,
   "defaultVisibility": true,
   "subLayerIds": null,
   "minScale": 400000,
   "maxScale": 200001
  },
  {
   "id": 26,
   "name": "Roads (200,000)",
   "parentLayerId": 22,
   "defaultVisibility": true,
   "subLayerIds": null,
   "minScale": 200000,
   "maxScale": 100001
  },
  {
   "id": 27,
   "name": "Roads (100,000)",
   "parentLayerId": 22,
   "defaultVisibility": true,
   "subLayerIds": null,
   "minScale": 100000,
   "maxScale": 12001
  },
  {
   "id": 28,
   "name": "Roads (12,000)",
   "parentLayerId": 22,
   "defaultVisibility": true,
   "subLayerIds": null,
   "minScale": 12000,
   "maxScale": 0
  },
  {
   "id": 29,
   "name": "Hydrology",
   "parentLayerId": -1,
   "defaultVisibility": true,
   "subLayerIds": [
    30,
    33
   ],
   "minScale": 0,
   "maxScale": 0
  },
  {
   "id": 30,
   "name": "Eastern Shore Hydro",
   "parentLayerId": 29,
   "defaultVisibility": true,
   "subLayerIds": [
    31,
    32
   ],
   "minScale": 0,
   "maxScale": 0
  },
  {
   "id": 31,
   "name": "northampton_differences",
   "parentLayerId": 30,
   "defaultVisibility": true,
   "subLayerIds": null,
   "minScale": 0,
   "maxScale": 0
  },
  {
   "id": 32,
   "name": "eastern_shore_hydro_clipped",
   "parentLayerId": 30,
   "defaultVisibility": true,
   "subLayerIds": null,
   "minScale": 0,
   "maxScale": 0
  },
  {
   "id": 33,
   "name": "Virginia Hydrology",
   "parentLayerId": 29,
   "defaultVisibility": true,
   "subLayerIds": [
    34,
    35,
    36,
    37,
    38,
    39,
    40
   ],
   "minScale": 0,
   "maxScale": 0
  },
  {
   "id": 34,
   "name": "nhd_hydro_mask_update (Northampton)",
   "parentLayerId": 33,
   "defaultVisibility": true,
   "subLayerIds": null,
   "minScale": 0,
   "maxScale": 0
  },
  {
   "id": 35,
   "name": "nhd_hydro_mask (Northampton)",
   "parentLayerId": 33,
   "defaultVisibility": true,
   "subLayerIds": null,
   "minScale": 0,
   "maxScale": 0
  },
  {
   "id": 36,
   "name": "nhd_hydro_mask_update (Accomack)",
   "parentLayerId": 33,
   "defaultVisibility": true,
   "subLayerIds": null,
   "minScale": 0,
   "maxScale": 0
  },
  {
   "id": 37,
   "name": "nhd_hydro_mask (Accomack)",
   "parentLayerId": 33,
   "defaultVisibility": true,
   "subLayerIds": null,
   "minScale": 0,
   "maxScale": 0
  },
  {
   "id": 38,
   "name": "VirginiaHydro_poly",
   "parentLayerId": 33,
   "defaultVisibility": true,
   "subLayerIds": null,
   "minScale": 0,
   "maxScale": 300000
  },
  {
   "id": 39,
   "name": "Hydro Poly Detailed",
   "parentLayerId": 33,
   "defaultVisibility": true,
   "subLayerIds": null,
   "minScale": 300000,
   "maxScale": 0
  },
  {
   "id": 40,
   "name": "accomack_county_background",
   "parentLayerId": 33,
   "defaultVisibility": false,
   "subLayerIds": null,
   "minScale": 0,
   "maxScale": 0
  },
  {
   "id": 41,
   "name": "state_boundary",
   "parentLayerId": -1,
   "defaultVisibility": true,
   "subLayerIds": null,
   "minScale": 0,
   "maxScale": 0
  },
  {
   "id": 42,
   "name": "northampton_county_background",
   "parentLayerId": -1,
   "defaultVisibility": true,
   "subLayerIds": null,
   "minScale": 0,
   "maxScale": 0
  },
  {
   "id": 43,
   "name": "accomack_county_background",
   "parentLayerId": -1,
   "defaultVisibility": true,
   "subLayerIds": null,
   "minScale": 0,
   "maxScale": 0
  }
 ],
 "tables": [],
 "spatialReference": {
  "wkid": 102100,
  "latestWkid": 3857
 },
 "singleFusedMapCache": true,
 "tileInfo": {
  "rows": 256,
  "cols": 256,
  "dpi": 96,
  "format": "JPEG",
  "compressionQuality": 75,
  "origin": {
   "x": -2.0037508342787E7,
   "y": 2.0037508342787E7
  },
  "spatialReference": {
   "wkid": 102100,
   "latestWkid": 3857
  },
  "lods": [
   {
    "level": 0,
    "resolution": 156543.03392800014,
    "scale": 5.91657527591555E8
   },
   {
    "level": 1,
    "resolution": 78271.51696399994,
    "scale": 2.95828763795777E8
   },
   {
    "level": 2,
    "resolution": 39135.75848200009,
    "scale": 1.47914381897889E8
   },
   {
    "level": 3,
    "resolution": 19567.87924099992,
    "scale": 7.3957190948944E7
   },
   {
    "level": 4,
    "resolution": 9783.93962049996,
    "scale": 3.6978595474472E7
   },
   {
    "level": 5,
    "resolution": 4891.96981024998,
    "scale": 1.8489297737236E7
   },
   {
    "level": 6,
    "resolution": 2445.98490512499,
    "scale": 9244648.868618
   },
   {
    "level": 7,
    "resolution": 1222.992452562495,
    "scale": 4622324.434309
   },
   {
    "level": 8,
    "resolution": 611.4962262813797,
    "scale": 2311162.217155
   },
   {
    "level": 9,
    "resolution": 305.74811314055756,
    "scale": 1155581.108577
   },
   {
    "level": 10,
    "resolution": 152.87405657041106,
    "scale": 577790.554289
   },
   {
    "level": 11,
    "resolution": 76.43702828507324,
    "scale": 288895.277144
   },
   {
    "level": 12,
    "resolution": 38.21851414253662,
    "scale": 144447.638572
   },
   {
    "level": 13,
    "resolution": 19.10925707126831,
    "scale": 72223.819286
   },
   {
    "level": 14,
    "resolution": 9.554628535634155,
    "scale": 36111.909643
   },
   {
    "level": 15,
    "resolution": 4.77731426794937,
    "scale": 18055.954822
   },
   {
    "level": 16,
    "resolution": 2.388657133974685,
    "scale": 9027.977411
   },
   {
    "level": 17,
    "resolution": 1.1943285668550503,
    "scale": 4513.988705
   },
   {
    "level": 18,
    "resolution": 0.5971642835598172,
    "scale": 2256.994353
   },
   {
    "level": 19,
    "resolution": 0.29858214164761665,
    "scale": 1128.497176
   },
   {
    "level": 20,
    "resolution": 0.14929107082380833,
    "scale": 564.248588
   },
   {
    "level": 21,
    "resolution": 0.07464553541190416,
    "scale": 282.124294
   },
   {
    "level": 22,
    "resolution": 0.03732276770595208,
    "scale": 141.062147
   },
   {
    "level": 23,
    "resolution": 0.01866138385297604,
    "scale": 70.5310735
   }
  ]
 },
 "initialExtent": {
  "xmin": -8429120.507733885,
  "ymin": 4544688.845626533,
  "xmax": -8428969.694932256,
  "ymax": 4544748.535745915,
  "spatialReference": {
   "wkid": 102100,
   "latestWkid": 3857
  }
 },
 "fullExtent": {
  "xmin": -8591514.391134262,
  "ymin": 4394273.681370825,
  "xmax": -8250026.483817391,
  "ymax": 4641717.034754902,
  "spatialReference": {
   "wkid": 102100,
   "latestWkid": 3857
  }
 },
 "minScale": 1155581.108577,
 "maxScale": 1128.497176,
 "units": "esriMeters",
 "supportedImageFormatTypes": "PNG32,PNG24,PNG,JPG,DIB,TIFF,EMF,PS,PDF,GIF,SVG,SVGZ,BMP",
 "documentInfo": {
  "Title": "Copy_of_Accomack_BasemapCache - Copy",
  "Author": "Administrator",
  "Comments": "",
  "Subject": "",
  "Category": "",
  "AntialiasingMode": "None",
  "TextAntialiasingMode": "Force",
  "Keywords": ""
 },
 "capabilities": "Map,Query,Data",
 "supportedQueryFormats": "JSON, AMF, geoJSON",
 "exportTilesAllowed": false,
 "datumTransformations": [
  {
   "geoTransforms": [
    {
     "wkid": 108001,
     "latestWkid": 1241,
     "transformForward": true,
     "name": "NAD_1927_To_NAD_1983_NADCON"
    }
   ]
  },
  {
   "geoTransforms": [
    {
     "wkid": 108001,
     "latestWkid": 1241,
     "transformForward": false,
     "name": "NAD_1927_To_NAD_1983_NADCON"
    }
   ]
  }
 ],
 "supportsDatumTransformation": true,
 "maxRecordCount": 1000,
 "maxImageHeight": 4096,
 "maxImageWidth": 4096,
 "supportedExtensions": "KmlServer"
}
