View In:
ArcGIS JavaScript
ArcGIS Online Map Viewer
ArcGIS Earth
ArcMap
ArcGIS Explorer
View Footprint In:
ArcGIS Online Map Viewer
Service Description:
Map Name: Statewide Road Cache
Legend
All Layers and Tables
Dynamic Legend
Dynamic All Layers
Layers:
-
County Boundaries (0)
-
Parcels (1)
-
Mask (2)
-
Accomack Roads (3)
-
Accomack Roads (12,000) (4)
-
Accomack Roads - Back (12,000) (5)
-
Accomack Roads (100,000) (6)
-
Accomack Roads - Back (100,000) (7)
-
Accomack Roads (200,000) (8)
-
Accomack Roads - Back (200,000) (9)
-
Accomack Roads (400,000) (10)
-
Accomack Roads - Back (400,000) (11)
-
Accomack Roads (800,000) (12)
-
Accomack Roads - Back (800,000) (13)
-
State Roads (RNS) (14)
-
Hydrology (29)
-
state_boundary (41)
-
northampton_county_background (42)
-
accomack_county_background (43)
Description:
Copyright Text:
Spatial Reference:
102100
(3857)
Single Fused Map Cache: true
Tile Info:
- Height: 256
- Width: 256
- DPI: 96
-
Levels of Detail: 24
-
Level ID: 0
[ Start Tile, End Tile ]
- Resolution: 156543.03392800014
- Scale: 5.91657527591555E8
-
Level ID: 1
[ Start Tile, End Tile ]
- Resolution: 78271.51696399994
- Scale: 2.95828763795777E8
-
Level ID: 2
[ Start Tile, End Tile ]
- Resolution: 39135.75848200009
- Scale: 1.47914381897889E8
-
Level ID: 3
[ Start Tile, End Tile ]
- Resolution: 19567.87924099992
- Scale: 7.3957190948944E7
-
Level ID: 4
[ Start Tile, End Tile ]
- Resolution: 9783.93962049996
- Scale: 3.6978595474472E7
-
Level ID: 5
[ Start Tile, End Tile ]
- Resolution: 4891.96981024998
- Scale: 1.8489297737236E7
- Format: JPEG
- Compression Quality: 75.0
- Origin: X: -2.0037508342787E7
Y: 2.0037508342787E7
- Spatial Reference: 102100
(3857)
Initial Extent:
XMin: -9261732.605224488
YMin: 4576666.816032701
XMax: -8437818.457396192
YMax: 4825111.062921195
Spatial Reference: 102100
(3857)
Full Extent:
XMin: -8591514.391134262
YMin: 4394273.681370825
XMax: -8250026.483817391
YMax: 4641717.034754902
Spatial Reference: 102100
(3857)
Units: esriMeters
Supported Image Format Types: PNG32,PNG24,PNG,JPG,DIB,TIFF,EMF,PS,PDF,GIF,SVG,SVGZ,BMP
Document Info:
Title: Copy_of_Accomack_BasemapCache - Copy
Author: Administrator
Comments:
Subject:
Category:
Keywords:
AntialiasingMode: None
TextAntialiasingMode: Force
Supports Dynamic Layers: true
MaxRecordCount: 1000
MaxImageHeight: 4096
MaxImageWidth: 4096
Supported Query Formats: JSON, AMF, geoJSON
Min Scale: 1155581.108577
Max Scale: 1128.497176
Supports Datum Transformation: true
Child Resources:
Info
Dynamic Layer
Supported Operations:
Export Map
Identify
QueryDomains
Find
Return Updates
Generate KML